BEGIN:VCALENDAR
VERSION:2.0
PRODID:-//GRÜNE Münchenstein - ECPv6.15.15//NONSGML v1.0//EN
CALSCALE:GREGORIAN
METHOD:PUBLISH
X-WR-CALNAME:GRÜNE Münchenstein
X-ORIGINAL-URL:https://gruenemuenchenstein.ch
X-WR-CALDESC:Veranstaltungen für GRÜNE Münchenstein
REFRESH-INTERVAL;VALUE=DURATION:PT1H
X-Robots-Tag:noindex
X-PUBLISHED-TTL:PT1H
BEGIN:VTIMEZONE
TZID:Europe/Zurich
BEGIN:DAYLIGHT
TZOFFSETFROM:+0100
TZOFFSETTO:+0200
TZNAME:CEST
DTSTART:20250330T010000
END:DAYLIGHT
BEGIN:STANDARD
TZOFFSETFROM:+0200
TZOFFSETTO:+0100
TZNAME:CET
DTSTART:20251026T010000
END:STANDARD
BEGIN:DAYLIGHT
TZOFFSETFROM:+0100
TZOFFSETTO:+0200
TZNAME:CEST
DTSTART:20260329T010000
END:DAYLIGHT
BEGIN:STANDARD
TZOFFSETFROM:+0200
TZOFFSETTO:+0100
TZNAME:CET
DTSTART:20261025T010000
END:STANDARD
BEGIN:DAYLIGHT
TZOFFSETFROM:+0100
TZOFFSETTO:+0200
TZNAME:CEST
DTSTART:20270328T010000
END:DAYLIGHT
BEGIN:STANDARD
TZOFFSETFROM:+0200
TZOFFSETTO:+0100
TZNAME:CET
DTSTART:20271031T010000
END:STANDARD
END:VTIMEZONE
BEGIN:VEVENT
DTSTART;TZID=Europe/Zurich:20260521T183000
DTEND;TZID=Europe/Zurich:20260521T203000
DTSTAMP:20260421T143426
CREATED:20260411T162503Z
LAST-MODIFIED:20260411T162900Z
UID:6243-1779388200-1779395400@gruenemuenchenstein.ch
SUMMARY:Buchlesung mit Nicole Egloff\, Philipp Schoch und Maya Graf
DESCRIPTION:
URL:https://gruenemuenchenstein.ch/event/buchlesung-mit-nicole-egloff-philipp-schoch-und-maya-graf
LOCATION:Liestal\, Hofgut Obere Wanne\, Obere Wanne 32\, Liestal
END:VEVENT
END:VCALENDAR