BEGIN:VCALENDAR
VERSION:2.0
PRODID:-//GRÜNE Münchenstein - ECPv6.15.15//NONSGML v1.0//EN
CALSCALE:GREGORIAN
METHOD:PUBLISH
X-WR-CALNAME:GRÜNE Münchenstein
X-ORIGINAL-URL:https://gruenemuenchenstein.ch
X-WR-CALDESC:Veranstaltungen für GRÜNE Münchenstein
REFRESH-INTERVAL;VALUE=DURATION:PT1H
X-Robots-Tag:noindex
X-PUBLISHED-TTL:PT1H
BEGIN:VTIMEZONE
TZID:Europe/Zurich
BEGIN:DAYLIGHT
TZOFFSETFROM:+0100
TZOFFSETTO:+0200
TZNAME:CEST
DTSTART:20190331T010000
END:DAYLIGHT
BEGIN:STANDARD
TZOFFSETFROM:+0200
TZOFFSETTO:+0100
TZNAME:CET
DTSTART:20191027T010000
END:STANDARD
BEGIN:DAYLIGHT
TZOFFSETFROM:+0100
TZOFFSETTO:+0200
TZNAME:CEST
DTSTART:20200329T010000
END:DAYLIGHT
BEGIN:STANDARD
TZOFFSETFROM:+0200
TZOFFSETTO:+0100
TZNAME:CET
DTSTART:20201025T010000
END:STANDARD
BEGIN:DAYLIGHT
TZOFFSETFROM:+0100
TZOFFSETTO:+0200
TZNAME:CEST
DTSTART:20210328T010000
END:DAYLIGHT
BEGIN:STANDARD
TZOFFSETFROM:+0200
TZOFFSETTO:+0100
TZNAME:CET
DTSTART:20211031T010000
END:STANDARD
END:VTIMEZONE
BEGIN:VEVENT
DTSTART;VALUE=DATE:20200515
DTEND;VALUE=DATE:20200516
DTSTAMP:20260425T135250
CREATED:20200304T165951Z
LAST-MODIFIED:20200304T165951Z
UID:1592-1589500800-1589587199@gruenemuenchenstein.ch
SUMMARY:Generalstreik fürs Klima
DESCRIPTION:Da aufgrund der Corona-Krise die Demo nicht stattfinden kann\, findet sie online statt. \nNähere Infos auf: https://strikeforfuture.ch/
URL:https://gruenemuenchenstein.ch/event/generalstreik-fuers-klima
LOCATION:ganze Schweiz – online
ATTACH;FMTTYPE=image/png:https://gruenemuenchenstein.ch/wp-content/uploads/sites/9/2019/03/20190315_ThereIsNoPlanetB_Klimastreik_PNG.png
END:VEVENT
END:VCALENDAR